BEGIN:VCALENDAR
VERSION:2.0
PRODID:-//Finance World - Leading Finance Magazine of MENA Region | Finance Magazine, Finance News - ECPv6.15.11//NONSGML v1.0//EN
CALSCALE:GREGORIAN
METHOD:PUBLISH
X-WR-CALNAME:Finance World - Leading Finance Magazine of MENA Region | Finance Magazine, Finance News
X-ORIGINAL-URL:https://thefinanceworld.com
X-WR-CALDESC:Events for Finance World - Leading Finance Magazine of MENA Region | Finance Magazine, Finance News
REFRESH-INTERVAL;VALUE=DURATION:PT1H
X-Robots-Tag:noindex
X-PUBLISHED-TTL:PT1H
BEGIN:VTIMEZONE
TZID:UTC
BEGIN:STANDARD
TZOFFSETFROM:+0000
TZOFFSETTO:+0000
TZNAME:UTC
DTSTART:20230101T000000
END:STANDARD
END:VTIMEZONE
BEGIN:VEVENT
DTSTART;VALUE=DATE:20240305
DTEND;VALUE=DATE:20240308
DTSTAMP:20260419T224147
CREATED:20231120T164807Z
LAST-MODIFIED:20240219T093922Z
UID:44354-1709596800-1709855999@thefinanceworld.com
SUMMARY:Saudi Signage Expo
DESCRIPTION:Saudi Signage Expo\, taking place from 5 – 7 March 2024 at Riyadh International Convention and Exhibition Center in Riyadh\, is your gateway to unlocking endless business possibilities in the booming Saudi Arabian market. This influential event for the digital\, print\, graphics and imaging industries will attract senior decision makers from the industry and the top manufacturers and suppliers of digital and print signage and graphics. \nOrganized by dmg events\, a world leading event organizer\, Saudi Signage Expo 2024 expects 5\,000+ attendees and 100+ international and local exhibitors who will showcase the latest products and services from digital signage\, large format printing\, graphics\, imaging\, gifts\, promotional materials and much more. \nThe event will also include 25+ expert speakers delivering over 15 educational sessions on the up and coming topics covering 6 themes – personalization\, sustainability\, creativity and storytelling\, wayfinding and signage\, local content and printing and wrapping. \nThis event emerges against the backdrop of remarkable growth in the signage sector\, driven by key sectors like retail\, leisure\, commercial\, tourism\, and infrastructure. As the Expo takes center stage\, it becomes a crucial focal point for industry players. \nSaudi Signage Expo 2024 is strategically timed and located\, offering a unique opportunity to establish meaningful connections\, engage with influential decision-makers steering industry growth\, and explore innovative suppliers across Saudi Arabia. \nSaudi Signage Expo will take place annually and is free to attend for industry professionals. \nRight people. Right place. Right time. Only at Saudi Signage Expo. \nDate: 5-7 March 2024\nTimings: 15:00 – 21:00 Daily\nVenue: Riyadh International Convention and Exhibition Center\, Riyadh\, Saudi Arabia\nFor further information: Visit Website\nTo Attend: Register Now\nTo Exhibit: Book a Stand \nFor any queries\, contact: info@saudisignageexpo.com  \nWe are happy to support Saudi Signage Expo as a Media Partner.\nFor PRs: pr@thefinanceworld.com\nPartnerships\, Interviews & Marketing Support: marlon@thefinanceworld.com\nFor General Queries: info@thefinanceworld.com
URL:https://thefinanceworld.com/event/saudi-signage-expo-2024/
LOCATION:Riyadh International Convention & Exhibition Centre
CATEGORIES:Exhibiton
ATTACH;FMTTYPE=image/png:https://thefinanceworld.com/wp-content/uploads/2023/11/Finance-world-banner-1600-x-900-px.png
END:VEVENT
END:VCALENDAR