BEGIN:VCALENDAR
VERSION:2.0
PRODID:-//Finance World - Leading Finance Magazine of MENA Region | Finance Magazine, Finance News - ECPv6.15.11//NONSGML v1.0//EN
CALSCALE:GREGORIAN
METHOD:PUBLISH
X-ORIGINAL-URL:https://thefinanceworld.com
X-WR-CALDESC:Events for Finance World - Leading Finance Magazine of MENA Region | Finance Magazine, Finance News
REFRESH-INTERVAL;VALUE=DURATION:PT1H
X-Robots-Tag:noindex
X-PUBLISHED-TTL:PT1H
BEGIN:VTIMEZONE
TZID:UTC
BEGIN:STANDARD
TZOFFSETFROM:+0000
TZOFFSETTO:+0000
TZNAME:UTC
DTSTART:20230101T000000
END:STANDARD
END:VTIMEZONE
BEGIN:VEVENT
DTSTART;TZID=UTC:20240918T080000
DTEND;TZID=UTC:20240919T160000
DTSTAMP:20260420T015516
CREATED:20240604T121450Z
LAST-MODIFIED:20240604T121450Z
UID:61723-1726646400-1726761600@thefinanceworld.com
SUMMARY:IDC Saudi Arabia CIO Summit 2024
DESCRIPTION:The IDC Saudi Arabia CIO Summit 2024 is a vital platform for empowering IT leaders in navigating the GenAI-driven disruption era. With a focus on AI’s transformative potential\, the summit provides expert guidance on achieving success in today’s digital landscape. Attendees gain insights into multidimensional roles\, data-centric platforms\, cloud migration\, security\, and skill investments\, ensuring readiness for an “AI Everywhere” future. \nJoin discussions on hot topics\, trends\, and challenges to adapt to shifting business landscapes and scale massively in the dynamic digital economy. This summit offers essential insights into meeting ambitious goals\, fulfilling the Vision 2030 strategy\, and executing multiple giga projects\, fostering collaboration between private and public sector entities in Saudi Arabia’s turbocharged digital journey. \nMoreover\, organizations exploring and investing in GenAI use cases can leverage this event to prepare for the AI-centric world forecasted by IDC\, with annual spending on AI-centric systems worldwide set to surpass $300 billion by 2026\, and ICT spending in Saudi Arabia expected to exceed $36.6 billion by 2024. \nDate:  18 – 19 September 2024\nVenue:  Fairmont Riyadh\, Saudi Arabia\nFor further information visit: Event Website\nTo Attend: Register Now\nFor any queries: thamdan@idc.com  \nWe are happy to support the IDC Saudi Arabia CIO Summit 2024 as a Media Partner.\nFor PRs: pr@thefinanceworld.com\nPartnerships\, Interviews & Marketing Support: marlon@thefinanceworld.com\nFor General Queries: info@thefinanceworld.com
URL:https://thefinanceworld.com/event/idc-saudi-arabia-cio-summit-2024/
LOCATION:Fairmont Riyadh\, Saudi Arabia\, Saudi Arabia
CATEGORIES:Summit
ATTACH;FMTTYPE=image/jpeg:https://thefinanceworld.com/wp-content/uploads/2024/06/Save-the-Date-1.jpg
END:VEVENT
END:VCALENDAR