BEGIN:VCALENDAR
VERSION:2.0
PRODID:-//Finance World - Leading Finance Magazine of MENA Region | Finance Magazine, Finance News - ECPv6.15.11//NONSGML v1.0//EN
CALSCALE:GREGORIAN
METHOD:PUBLISH
X-WR-CALNAME:Finance World - Leading Finance Magazine of MENA Region | Finance Magazine, Finance News
X-ORIGINAL-URL:https://thefinanceworld.com
X-WR-CALDESC:Events for Finance World - Leading Finance Magazine of MENA Region | Finance Magazine, Finance News
REFRESH-INTERVAL;VALUE=DURATION:PT1H
X-Robots-Tag:noindex
X-PUBLISHED-TTL:PT1H
BEGIN:VTIMEZONE
TZID:UTC
BEGIN:STANDARD
TZOFFSETFROM:+0000
TZOFFSETTO:+0000
TZNAME:UTC
DTSTART:20250101T000000
END:STANDARD
END:VTIMEZONE
BEGIN:VEVENT
DTSTART;VALUE=DATE:20260211
DTEND;VALUE=DATE:20260213
DTSTAMP:20260422T102550
CREATED:20260202T103433Z
LAST-MODIFIED:20260202T155107Z
UID:105475-1770768000-1770940799@thefinanceworld.com
SUMMARY:Step Dubai 2026
DESCRIPTION:Step began as a series of focused workshops and networking gatherings and has\, over 13 years\, developed into Dubai’s leading technology and innovation festival. The 14th edition\, Step Dubai 2026\, will assemble thousands of founders\, investors\, industry leaders\, and tech professionals from around the world. \nUnder the theme “Intelligence Everywhere: The AI Economy\,” Step 2026 will highlight how artificial intelligence is reshaping business operations\, financial services\, technology\, and creative sectors. Across four targeted tracks\, featuring hundreds of global startups and engaging over 8\,000 professionals\, the festival remains a premier platform for advancing technology\, entrepreneurship\, and innovation in the UAE. \nDate: 11-12 February\nVenue: Dubai Internet City\nFor Further Information Visit: https://dubai.stepconference.com/ \nPlease feel free to reach out if you need any help:\nFor PRs: pr@thefinanceworld.com\nPartnerships\, Interviews & Marketing Support: marlon@thefinanceworld.com\nFor General Queries: info@thefinanceworld.com \n 
URL:https://thefinanceworld.com/event/step-dubai-2026/
LOCATION:Dubai Internet City\, Dubai\, United Arab Emirates
CATEGORIES:Event
ATTACH;FMTTYPE=image/jpeg:https://thefinanceworld.com/wp-content/uploads/2026/02/Step-Dubai-26-Website.jpg
END:VEVENT
END:VCALENDAR